BEGIN:VCALENDAR
VERSION:2.0
PRODID:-//Systems Engineering Society of Australia - ECPv5.6.0//NONSGML v1.0//EN
CALSCALE:GREGORIAN
METHOD:PUBLISH
X-WR-CALNAME:Systems Engineering Society of Australia
X-ORIGINAL-URL:https://www.sesa.org.au
X-WR-CALDESC:Events for Systems Engineering Society of Australia
BEGIN:VTIMEZONE
TZID:Australia/Melbourne
BEGIN:STANDARD
TZOFFSETFROM:+1100
TZOFFSETTO:+1000
TZNAME:AEST
DTSTART:20260404T160000
END:STANDARD
BEGIN:DAYLIGHT
TZOFFSETFROM:+1000
TZOFFSETTO:+1100
TZNAME:AEDT
DTSTART:20261003T160000
END:DAYLIGHT
END:VTIMEZONE
BEGIN:VEVENT
DTSTART;TZID=Australia/Melbourne:20260427T080000
DTEND;TZID=Australia/Melbourne:20260430T170000
DTSTAMP:20260423T084215
CREATED:20250815T041708Z
LAST-MODIFIED:20260114T030146Z
UID:4375-1777276800-1777568400@www.sesa.org.au
SUMMARY:Systems Engineering Test and Evaluation (SETE) Conference - 2026
DESCRIPTION:  \n\n\n\nAdding ‘Superpowers’ to Systems Engineering\nDiscover how integrating Artificial Intelligence and Data Engineering into Systems Engineering enhances system design\, management\, and optimisation. The conference showcases advances in system modelling\, automation of tasks\, test & evaluation\, and agile practices\, driving the more efficient and resilient delivery of safe\, secure\, and sustainable systems within tighter timeframes.\nSystems Engineering Test and Evaluation (SETE) 2026 is the premier conference of the Systems Engineering Society of Australia (SESA) and the Southern Cross Chapter of the International Test and Evaluation Association (ITEA). SETE provides a transdisciplinary forum for participants to expand professional networks\, exchange best practices\, and learn from leading practitioners and academics in engineering systems and the delivery of complex capabilities across diverse sectors.\n\n\n\n\nThe disciplines of systems engineering and test and evaluation — strengthened by the rapid adoption of artificial intelligence\, digital engineering\, automation\, and data-driven approaches — are uniquely positioned to shape the design\, integration\, delivery\, and sustainment of safe\, secure\, and resilient complex systems\, enabling faster\, smarter\, and more sustainable outcomes for national and global benefit. \nSETE26 will also explore how Artificial Intelligence and data engineering not only improve but also revolutionary shift the ability for Systems Engineers to analyses massive datasets and identify patterns invisible to the human eye\, enabling more informed decision-making and efficient processes. Furthermore\, these new technologies will enable systems to perform functions requiring human intelligence\, leading to a significant transformation of how Systems will be engineered across all domains: Defence\, Healthcare\, Energy\, Infrastructure and Transport. \n\n\n\n\n\nThis year’s SETE Conference is to be held at the Hilton Sydney from 27-30 April 2026. \n\nSubmissions for Abstracts\, Papers and Tutorial submissions are open now! For more details\, key dates and for how to apply visit the Authors page of the SETE website. \n\n\n\n\nPlease visit the SETE website for more information. For sponsorship\, please download the prospectus here.
URL:https://www.sesa.org.au/event/sete26/
ATTACH;FMTTYPE=image/jpeg:https://www.sesa.org.au/wp-content/uploads/2025/08/Website-Banner-1920px-x-1100px-1-scaled.jpg
END:VEVENT
BEGIN:VEVENT
DTSTART;TZID=Australia/Melbourne:20260613T080000
DTEND;TZID=Australia/Melbourne:20260618T170000
DTSTAMP:20260423T084215
CREATED:20250815T041828Z
LAST-MODIFIED:20260223T062650Z
UID:4377-1781337600-1781802000@www.sesa.org.au
SUMMARY:36th Annual INCOSE International Symposium\,  Yokohama\, Japan
DESCRIPTION:The INCOSE International Symposium is the premier international forum where practitioners\, researchers\, and educators share their insights\, experiences\, and innovations\, furthering the practice of systems engineering. The symposium has occurred every year since 1991 and is the largest annual gathering of the systems engineering community. \n \nBeyond Digital Engineering: Seeking Wa in SE \nWhile Digital Engineering (DE) continues to be a driving force in developing complex systems\, today’s societal challenges demand a more profound leap forward. The 2026 symposium will center on harmonizing emerging technologies with the irreplaceable power of human creativity and Kansei (sensibility)\, all guided by Wa\, the Japanese concept of harmony. \nHow can Human Systems Integration (HSI) forge this essential synergy and effectively blend human ingenuity\, Kansei\, and advanced technologies like AI? What vital skills will systems engineers need to thrive in this new era of evolving DE? This focus on a human-centric\, nature-harmonized approach will illuminate the path for systems engineering to not just adapt\, but to lead the shaping of our future world.
URL:https://www.sesa.org.au/event/36th-annual-incose-international-symposium-yokohama-japan/
END:VEVENT
END:VCALENDAR